BEGIN:VCALENDAR
VERSION:2.0
PRODID:-//Colegio Oficial de Farmacéuticos de Segovia - ECPv6.15.20//NONSGML v1.0//EN
CALSCALE:GREGORIAN
METHOD:PUBLISH
X-ORIGINAL-URL:https://cofsegovia.com
X-WR-CALDESC:Eventos para Colegio Oficial de Farmacéuticos de Segovia
REFRESH-INTERVAL;VALUE=DURATION:PT1H
X-Robots-Tag:noindex
X-PUBLISHED-TTL:PT1H
BEGIN:VTIMEZONE
TZID:Europe/Madrid
BEGIN:DAYLIGHT
TZOFFSETFROM:+0100
TZOFFSETTO:+0200
TZNAME:CEST
DTSTART:20250330T010000
END:DAYLIGHT
BEGIN:STANDARD
TZOFFSETFROM:+0200
TZOFFSETTO:+0100
TZNAME:CET
DTSTART:20251026T010000
END:STANDARD
BEGIN:DAYLIGHT
TZOFFSETFROM:+0100
TZOFFSETTO:+0200
TZNAME:CEST
DTSTART:20260329T010000
END:DAYLIGHT
BEGIN:STANDARD
TZOFFSETFROM:+0200
TZOFFSETTO:+0100
TZNAME:CET
DTSTART:20261025T010000
END:STANDARD
BEGIN:DAYLIGHT
TZOFFSETFROM:+0100
TZOFFSETTO:+0200
TZNAME:CEST
DTSTART:20270328T010000
END:DAYLIGHT
BEGIN:STANDARD
TZOFFSETFROM:+0200
TZOFFSETTO:+0100
TZNAME:CET
DTSTART:20271031T010000
END:STANDARD
END:VTIMEZONE
BEGIN:VEVENT
DTSTART;TZID=Europe/Madrid:20260505T203000
DTEND;TZID=Europe/Madrid:20260505T213000
DTSTAMP:20260421T164343
CREATED:20260421T064650Z
LAST-MODIFIED:20260421T064650Z
UID:7273-1778013000-1778016600@cofsegovia.com
SUMMARY:Sesión sobre protección solar: “REVOLUCIÓN SOLAR\, DE LO INVISIBLE A LO INFINITO”
DESCRIPTION:Sesión de formación sobre protección solar: “REVOLUCIÓN SOLAR\, DE LO INVISIBLE A LO INFINITO”\, a cargo Noelia Rodríguez Horcajo\, química y Product Training (bu dermocosmetics and personal care) del Departamento de Formación de Pierre Fabre Laboratories.
URL:https://cofsegovia.com/event/sesion-sobre-proteccion-solar-revolucion-solar-de-lo-invisible-a-lo-infinito/
LOCATION:Salón de Actos del Colegio\, Calle Domingo de Soto\, 3 2da Planta\, Segovia\, 40001\, España
ATTACH;FMTTYPE=image/jpeg:https://cofsegovia.com/wp-content/uploads/2021/11/Banner-COF-Segovia.jpg
ORGANIZER;CN="Colegio Oficial de Farmac%C3%A9uticos de Segovia":MAILTO:cofsegovia@redfarma.org
END:VEVENT
END:VCALENDAR