BEGIN:VCALENDAR
VERSION:2.0
PRODID:-//Colegio Oficial de Farmacéuticos de Segovia - ECPv6.15.20//NONSGML v1.0//EN
CALSCALE:GREGORIAN
METHOD:PUBLISH
X-WR-CALNAME:Colegio Oficial de Farmacéuticos de Segovia
X-ORIGINAL-URL:https://cofsegovia.com
X-WR-CALDESC:Eventos para Colegio Oficial de Farmacéuticos de Segovia
REFRESH-INTERVAL;VALUE=DURATION:PT1H
X-Robots-Tag:noindex
X-PUBLISHED-TTL:PT1H
BEGIN:VTIMEZONE
TZID:Europe/Madrid
BEGIN:DAYLIGHT
TZOFFSETFROM:+0100
TZOFFSETTO:+0200
TZNAME:CEST
DTSTART:20250330T010000
END:DAYLIGHT
BEGIN:STANDARD
TZOFFSETFROM:+0200
TZOFFSETTO:+0100
TZNAME:CET
DTSTART:20251026T010000
END:STANDARD
BEGIN:DAYLIGHT
TZOFFSETFROM:+0100
TZOFFSETTO:+0200
TZNAME:CEST
DTSTART:20260329T010000
END:DAYLIGHT
BEGIN:STANDARD
TZOFFSETFROM:+0200
TZOFFSETTO:+0100
TZNAME:CET
DTSTART:20261025T010000
END:STANDARD
BEGIN:DAYLIGHT
TZOFFSETFROM:+0100
TZOFFSETTO:+0200
TZNAME:CEST
DTSTART:20270328T010000
END:DAYLIGHT
BEGIN:STANDARD
TZOFFSETFROM:+0200
TZOFFSETTO:+0100
TZNAME:CET
DTSTART:20271031T010000
END:STANDARD
END:VTIMEZONE
BEGIN:VEVENT
DTSTART;TZID=Europe/Madrid:20260216T144500
DTEND;TZID=Europe/Madrid:20260224T154500
DTSTAMP:20260421T214227
CREATED:20260216T111247Z
LAST-MODIFIED:20260216T111247Z
UID:7183-1771253100-1771947900@cofsegovia.com
SUMMARY:Webinar formativo “Cuidado del paciente con EPOC: hacia un enfoque preventivo y sostenible desde la Farmacia Comunitaria”\,
DESCRIPTION:Fecha: 24/02/2026\nHora: 14\,45 h – 15\,45 h \nObjetivo: durante esta sesión se abordará la enfermedad pulmonar obstructiva crónica (EPOC) como una enfermedad heterogénea caracterizada por la presencia de síntomas respiratorios persistentes y una limitación del flujo de aire pulmonar. Se manifiesta con tos crónica\, expectoración y/o disnea\, con afección pulmonar y extrapulmonar y frecuentemente asociado a personas con comorbilidades. El principal factor de riesgo es el tabaquismo\, aunque influyen otros factores como la contaminación ambiental. Los dos objetivos principales de este webinar son actualizar los conocimientos de los farmacéuticos en la EPOC\, en las actuaciones para el control clínico y en la sostenibilidad medioambiental en la salud respiratoria\, además de promover el papel del farmacéutico como educador sanitario del paciente con EPOC. \nParticipantes:\nPresentadora:\n• Raquel Varas Doval\, farmacéutica responsable del Área de Campañas Sanitarias del Consejo General de Colegios Oficiales de Farmacéuticos.\nPonentes:\n• Lara Bravo Quiroga\, Neumóloga en el Hospital Universitario Príncipe de Asturias\, Alcalá de Henares (Madrid). Miembro de SEPAR y presidenta del comité científico\nde Neumomadrid.\n• Fernando Cantalapiedra\, Farmacéutico Comunitario en Alcalá de Henares\,\nProfesor asociado en la Universidad de Farmacia de Alcalá. Miembro de GRAP y SEFAC.
URL:https://cofsegovia.com/event/webinar-formativo-cuidado-del-paciente-con-epoc-hacia-un-enfoque-preventivo-y-sostenible-desde-la-farmacia-comunitaria/
LOCATION:GoToWebinar\, On-Line
ATTACH;FMTTYPE=image/png:https://cofsegovia.com/wp-content/uploads/2021/11/Farmaceuticos-copia.png
END:VEVENT
END:VCALENDAR